BEGIN:VCALENDAR
VERSION:2.0
PRODID:-//Tukios.com/
BEGIN:VEVENT
UID:e4100cb1-7158-4d2e-bdcc-ba4ff9017ea9@www.snidermemorialfh.com
DTSTAMP:20260421T222031Z
DTSTART:20260428T153000Z
DTEND:20260428T163000Z
SUMMARY:Memorial Service
DESCRIPTION:
URL:https://www.snidermemorialfh.com/obituaries/sharon-derner
LOCATION:Bartlett Church of Faith 220 3rd Street  Bartlett NE 68622
GEO:41.8848854;-98.5528755
END:VEVENT
END:VCALENDAR