BEGIN:VCALENDAR
VERSION:2.0
PRODID:-//Tukios.com/
BEGIN:VEVENT
UID:ac11e667-b146-44e2-ab11-cace98701f14@www.snidermemorialfh.com
DTSTAMP:20260421T222243Z
DTSTART:20260427T220000Z
DTEND:20260428T000000Z
SUMMARY:Visitation
DESCRIPTION:
URL:https://www.snidermemorialfh.com/obituaries/sharon-derner
LOCATION:Bartlett Church of Faith 220 3rd Street  Bartlett NE 68622
GEO:41.8848854;-98.5528755
END:VEVENT
END:VCALENDAR